BEGIN:VCALENDAR
VERSION:2.0
PRODID:-//Janet Ruth Heller - ECPv6.15.20//NONSGML v1.0//EN
CALSCALE:GREGORIAN
METHOD:PUBLISH
X-ORIGINAL-URL:https://www.janetruthheller.com
X-WR-CALDESC:Events for Janet Ruth Heller
REFRESH-INTERVAL;VALUE=DURATION:PT1H
X-Robots-Tag:noindex
X-PUBLISHED-TTL:PT1H
BEGIN:VTIMEZONE
TZID:America/New_York
BEGIN:DAYLIGHT
TZOFFSETFROM:-0500
TZOFFSETTO:-0400
TZNAME:EDT
DTSTART:20100314T070000
END:DAYLIGHT
BEGIN:STANDARD
TZOFFSETFROM:-0400
TZOFFSETTO:-0500
TZNAME:EST
DTSTART:20101107T060000
END:STANDARD
BEGIN:DAYLIGHT
TZOFFSETFROM:-0500
TZOFFSETTO:-0400
TZNAME:EDT
DTSTART:20110313T070000
END:DAYLIGHT
BEGIN:STANDARD
TZOFFSETFROM:-0400
TZOFFSETTO:-0500
TZNAME:EST
DTSTART:20111106T060000
END:STANDARD
BEGIN:DAYLIGHT
TZOFFSETFROM:-0500
TZOFFSETTO:-0400
TZNAME:EDT
DTSTART:20120311T070000
END:DAYLIGHT
BEGIN:STANDARD
TZOFFSETFROM:-0400
TZOFFSETTO:-0500
TZNAME:EST
DTSTART:20121104T060000
END:STANDARD
BEGIN:DAYLIGHT
TZOFFSETFROM:-0500
TZOFFSETTO:-0400
TZNAME:EDT
DTSTART:20130310T070000
END:DAYLIGHT
BEGIN:STANDARD
TZOFFSETFROM:-0400
TZOFFSETTO:-0500
TZNAME:EST
DTSTART:20131103T060000
END:STANDARD
BEGIN:DAYLIGHT
TZOFFSETFROM:-0500
TZOFFSETTO:-0400
TZNAME:EDT
DTSTART:20140309T070000
END:DAYLIGHT
BEGIN:STANDARD
TZOFFSETFROM:-0400
TZOFFSETTO:-0500
TZNAME:EST
DTSTART:20141102T060000
END:STANDARD
BEGIN:DAYLIGHT
TZOFFSETFROM:-0500
TZOFFSETTO:-0400
TZNAME:EDT
DTSTART:20150308T070000
END:DAYLIGHT
BEGIN:STANDARD
TZOFFSETFROM:-0400
TZOFFSETTO:-0500
TZNAME:EST
DTSTART:20151101T060000
END:STANDARD
BEGIN:DAYLIGHT
TZOFFSETFROM:-0500
TZOFFSETTO:-0400
TZNAME:EDT
DTSTART:20160313T070000
END:DAYLIGHT
BEGIN:STANDARD
TZOFFSETFROM:-0400
TZOFFSETTO:-0500
TZNAME:EST
DTSTART:20161106T060000
END:STANDARD
BEGIN:DAYLIGHT
TZOFFSETFROM:-0500
TZOFFSETTO:-0400
TZNAME:EDT
DTSTART:20170312T070000
END:DAYLIGHT
BEGIN:STANDARD
TZOFFSETFROM:-0400
TZOFFSETTO:-0500
TZNAME:EST
DTSTART:20171105T060000
END:STANDARD
BEGIN:DAYLIGHT
TZOFFSETFROM:-0500
TZOFFSETTO:-0400
TZNAME:EDT
DTSTART:20180311T070000
END:DAYLIGHT
BEGIN:STANDARD
TZOFFSETFROM:-0400
TZOFFSETTO:-0500
TZNAME:EST
DTSTART:20181104T060000
END:STANDARD
BEGIN:DAYLIGHT
TZOFFSETFROM:-0500
TZOFFSETTO:-0400
TZNAME:EDT
DTSTART:20190310T070000
END:DAYLIGHT
BEGIN:STANDARD
TZOFFSETFROM:-0400
TZOFFSETTO:-0500
TZNAME:EST
DTSTART:20191103T060000
END:STANDARD
BEGIN:DAYLIGHT
TZOFFSETFROM:-0500
TZOFFSETTO:-0400
TZNAME:EDT
DTSTART:20200308T070000
END:DAYLIGHT
BEGIN:STANDARD
TZOFFSETFROM:-0400
TZOFFSETTO:-0500
TZNAME:EST
DTSTART:20201101T060000
END:STANDARD
BEGIN:DAYLIGHT
TZOFFSETFROM:-0500
TZOFFSETTO:-0400
TZNAME:EDT
DTSTART:20210314T070000
END:DAYLIGHT
BEGIN:STANDARD
TZOFFSETFROM:-0400
TZOFFSETTO:-0500
TZNAME:EST
DTSTART:20211107T060000
END:STANDARD
END:VTIMEZONE
BEGIN:VEVENT
DTSTART;TZID=America/New_York:20201205T193000
DTEND;TZID=America/New_York:20201205T210000
DTSTAMP:20260423T200835
CREATED:20201204T221652Z
LAST-MODIFIED:20201204T222926Z
UID:1032-1607196600-1607202000@www.janetruthheller.com
SUMMARY:Zoom Launch Party for the #SocialGapExperiment Anthology at 7:30 p.m. on Saturday\, December 5\, 2020
DESCRIPTION:Please join me for the official launch party for the #SocialGapExperiment Anthology at 7:30 p.m. on Saturday\, December 5\, 2020 to meet the authors and artists! I have a poem about my father entitled “Honoring Dad” in this anthology.\n\nThe editor of this anthology is Melissa F. Kaelin\, who is a writer\, painter and social media guru residing in Michigan.\n\nHere is the link for more information about the Social Gap Experiment Anthology and to join us for this free event.\n\nhttps://www.facebook.com/events/1798286643659664/ \n 
URL:https://www.janetruthheller.com/event/zoom-launch-party-for-the-socialgapexperiment-anthology-at-730-p-m-on-saturday-december-5-2020/
CATEGORIES:Creative Nonfiction Reading,Memoir Reading,Poetry Reading,Public Reading & Autographing
END:VEVENT
BEGIN:VEVENT
DTSTART;TZID=America/New_York:20150908T180000
DTEND;TZID=America/New_York:20150908T210000
DTSTAMP:20260423T200835
CREATED:20150819T012349Z
LAST-MODIFIED:20150819T012349Z
UID:313-1441735200-1441746000@www.janetruthheller.com
SUMMARY:Janet Heller Reads Her Poems at the LaSalle Public Library on Tuesday\, September 8\, 2015 at 6 p.m.
DESCRIPTION:Janet Heller reads her poetry at the LaSalle Public Library.  She will read from her books Folk Concert: Changing Times (Anaphora Literary Press\, 2012) and Exodus (WordTech Editions\, 2014).  There will also be an open-microphone\, so come and read your own poems!  This free event is sponsored by the Poetry Connection at the LaSalle Public Library.  Location:  305 Marquette Street\, LaSalle\, Illinois 61301.  For more information\, please phone (815) 223-2341 or check the library’s website www.lasalle.lib.il.us/calendar/2015-09
URL:https://www.janetruthheller.com/event/janet-heller-reads-her-poems-at-the-lasalle-public-library-on-tuesday-september-8-2015-at-6-p-m/
LOCATION:LaSalle Public Library\, 305 Marquette Street\, LaSalle\, IL\, 61301\, United States
CATEGORIES:Poetry Reading,Public Reading & Autographing
END:VEVENT
BEGIN:VEVENT
DTSTART;TZID=America/New_York:20150721T130000
DTEND;TZID=America/New_York:20150721T140000
DTSTAMP:20260423T200835
CREATED:20150716T221014Z
LAST-MODIFIED:20150716T221210Z
UID:285-1437483600-1437487200@www.janetruthheller.com
SUMMARY:Janet Heller will be interviewed about her new book The Passover Surprise by JD Holiday on Tuesday\, July 21 at 1 p.m. EST
DESCRIPTION:Dear Friends\, \nI will read part of my book and be interviewed about my new middle-grade fiction chapter book for children\,The Passover Surprise (Fictive Press\, 2015)\, by JD Holiday on Tuesday\, July 21 at 1 p.m. EST on her show It’s Story Time. \nThe link for the show on Blog Talk Radio is www.blogtalkradio.com/worldofinknetwork/2015/07/21/its-story-time-with-jd-holiday-on-the-world-of-ink-network \nThe show’s site page is http://jdswritersblog.blogspot.com/2015/07/its-story-time-charlene-star-and.html \nBest wishes! \nSincerely\, \nJanet
URL:https://www.janetruthheller.com/event/janet-heller-will-be-interviewed-about-her-new-book-the-passover-surprise-by-jd-holiday-on-tuesday-july-21-at-1-p-m-est/
LOCATION:It’s Story Time\, United States
CATEGORIES:Interview
END:VEVENT
BEGIN:VEVENT
DTSTART;TZID=America/New_York:20150222T133000
DTEND;TZID=America/New_York:20150222T150000
DTSTAMP:20260423T200835
CREATED:20150209T051514Z
LAST-MODIFIED:20150209T051514Z
UID:216-1424611800-1424617200@www.janetruthheller.com
SUMMARY:Janet Ruth Heller Reads Her Poetry at the Kalamazoo Valley Museum on Sunday\, February 22\, 2015
DESCRIPTION:Sunday\, February 22\, 2015 from 1:30 to 3 p.m.—Janet Ruth Heller will participate in Artifactory:  Poems about Kalamazoo and Kalamazoo History at the Kalamazoo Valley Museum.  This is a free event.  Kalamazoo-area writers will read poems about items in the Kalamazoo Valley Museum collections\, the Kalamazoo area\, and local history. Kalamazoo Valley Museum curator Tom Dietz will comment on the poems\, give details about Kalamazoo history\, and show slides of relevant artifacts.  Attendees will receive a free booklet of the poems.  Artifactory will take place in the Mary Jane Stryker Theater of the Kalamazoo Valley Museum at 230 N. Rose St. in Kalamazoo\, Michigan 49003.  This event is co-sponsored by Friends of Poetry\, and this reading is free and open to the public.
URL:https://www.janetruthheller.com/event/janet-ruth-heller-reads-her-poetry-at-the-kalamazoo-valley-museum-on-sunday-february-22-2015/
LOCATION:Kalamazoo Valley Museum\,  230 N. Rose St.\, Kalamazoo\, MI\, 49003\, United States
CATEGORIES:Poetry Reading
END:VEVENT
BEGIN:VEVENT
DTSTART;TZID=America/New_York:20141213T100000
DTEND;TZID=America/New_York:20141213T140000
DTSTAMP:20260423T200835
CREATED:20141211T224314Z
LAST-MODIFIED:20141211T224314Z
UID:210-1418464800-1418479200@www.janetruthheller.com
SUMMARY:Janet Ruth Heller Reads & Autographs Her Books at the Local Writers Expo at the Portage District Library in Michigan
DESCRIPTION:Saturday\, December 13\, 2014 from 10 a.m. to 2 p.m.—Janet Heller will read from and autograph her five books at the Local Writers Expo at the Portage District Library on Saturday December 13 from 10 a.m. to 2 p.m.  Around noon\, she will read from her books.  She will also give advice about writing and publishing.  Books by Michigan writers make excellent holiday gifts!  Janet has published the poetry books Exodus (WordTech Editions\, 2014)\, Folk Concert: Changing Times (Anaphora Literary Press\, 2012) and Traffic Stop (Finishing Line Press\, 2011)\, the scholarly book Coleridge\, Lamb\, Hazlitt\, and the Reader of Drama (University of Missouri Press\, 1990)\, and the award-winning book for kids about bullying\, How the Moon Regained Her Shape (Arbordale\, 2006).  The Portage District Library is located at 300 Library Lane/ Portage\, Michigan 49002. For more information\, please phone the Portage District Library at (269) 329-4544.
URL:https://www.janetruthheller.com/event/janet-ruth-heller-reads-autographs-her-books-at-the-local-writers-expo-at-the-portage-district-library-in-michigan/
LOCATION:Portage District Library\, 300 Library Lane\, Portage\, MI\, 49002\, United States
CATEGORIES:Book Signing,Public Reading & Autographing
END:VEVENT
BEGIN:VEVENT
DTSTART;TZID=America/New_York:20141205T170000
DTEND;TZID=America/New_York:20141205T190000
DTSTAMP:20260423T200835
CREATED:20141110T034759Z
LAST-MODIFIED:20141206T235932Z
UID:198-1417798800-1417806000@www.janetruthheller.com
SUMMARY:Janet Heller Reads from her poetry books Exodus and Folk Concert: Changing Times at the Kalamazoo Public Library on December 5\, 2014
DESCRIPTION:Friday\, December 5\, 2014–6 p.m. to 8 p.m.—Janet Heller will read from her poetry books Exodus and Folk Concert: Changing Times at the Kalamazoo Public Library as part of a Friends of Poetry event. She will also autograph all of her books.  Location: 315 S Rose St.\, Kalamazoo MI 49007.  This reading is part of Art Hop events in downtown Kalamazoo.
URL:https://www.janetruthheller.com/event/janet-heller-reads-from-her-poetry-books-exodus-and-folk-concert-changing-times-at-the-kalamazoo-public-library-on-december-5-2014/
LOCATION:Kalamazoo Public Library\, 315 S Rose St. \, Kalamazoo\, MI\, 49007\, United States
CATEGORIES:Book Signing,Poetry Reading
END:VEVENT
BEGIN:VEVENT
DTSTART;TZID=America/New_York:20141113T141500
DTEND;TZID=America/New_York:20141114T153000
DTSTAMP:20260423T200835
CREATED:20141110T033221Z
LAST-MODIFIED:20141110T040630Z
UID:195-1415888100-1415979000@www.janetruthheller.com
SUMMARY:Janet Heller Speaks at the Convention of the Midwest Modern Language Association in Dearborn MI on November 13-14\, 2014
DESCRIPTION:Thursday November 13 and Friday November 14\, 2014—Janet Heller will be speaking at the convention of the Midwest Modern Language Association at the Double Tree by Hilton Hotel Detroit-Dearborn. The conference theme is “The Lives of Cities.”  Janet will read her autobiographical essay “Growing Up on the Other Side of Lake Michigan\,” which combines poetry and prose\, on November 13 from 2:15 to 3:45 p.m.  She will also discuss “Capturing Adolescence in Detroit:  The Poems of Jim Daniels” from 2 to 3:30 p.m. on Friday\, November 14.
URL:https://www.janetruthheller.com/event/janet-heller-speaks-at-the-convention-of-the-midwest-modern-language-association-in-dearborn-mi-on-november-13-14-2014/
LOCATION:Double Tree by Hilton Hotel Detroit-Dearborn\, 5801 Southfield Expressway\, Detroit \, MI\, 48228\, United States
CATEGORIES:Conference Presentations,Creative Nonfiction Reading,Memoir Reading,Panel Discussion,Poetry Reading
END:VEVENT
BEGIN:VEVENT
DTSTART;TZID=America/New_York:20141104T080000
DTEND;TZID=America/New_York:20141104T170000
DTSTAMP:20260423T200835
CREATED:20141104T043208Z
LAST-MODIFIED:20141110T031600Z
UID:192-1415088000-1415120400@www.janetruthheller.com
SUMMARY:Janet is on a Festival of Language panel at the 2014 Midwest Modern Language Association's conference
DESCRIPTION:The Festival of Language at the 2014 Midwest Modern Language Association’s annual conference in Detroit\nConference Theme:  “The Lives of Cities”\nRemixing the City: Remixing Language–Panel will be held on Thursday\, November 13 at 2:15 p.m. and will include\nJane L. Carman–“The Object((i)fic(a)tion of the City Through Dust-Colored Glasses” \nJanet Ruth Heller–“Growing Up on the Other Side of Lake Michigan” \nJoshua M. Murray–“‘For a Moment I wondered’: Transnational Sites of Memory in the Life Writing of Langston Hughes” \nWilliam Yarrow–“The Formalization of the Found Object” \nAlso\, please Join Us as a Participant! \nThere will also be a reading eXperiment held at 4:00 p.m. made up of 100% audience participation. Bring your writing and your friends–it’s sure to be a great time!\nLocation TBA\, but both sessions will be in the same room and will last 90 minutes each. \nBe sure to register for the conference and reserve a hotel room if you plan on attending. \n Click here to learn more about M/MLA.\nClick here for information about the annual conference. \n \n\n\n\n\n\n\n\n\n\n\n\n\n\n\n\n\n\n\n\n\n\n\n\n\n\n\n\n\n\n\n\n\n\n\n\n\n\n\n\n\n\n\n\n\n\n\n\n\n\n\n\n\n\n\n\n\n\n\n\n\n\n\n\n\n\n\n\n\n\n\n\n\n\n\n\n\n\n\n\n\n\n\n\n\n\n\n\n\n\n\n\n\n\n\n\n\n\n\n\n\n\n\n\n\n\n\n\n\n\n\n\n\n\n\n\n\n\n\n\n\n\n\nFestival Writer \n\n\n\n\n\n\nFestival of Language \n\n\n\n\n\n\nEvents \n\n\n\n\n\n\nLit Fest Press \n\n\n\n\n\n\nLinks \n\n\n\n\n\n\nReviews \n\n\n\n\n\n\nMerchandise \n\n\n\n\n\n\n\n 
URL:https://www.janetruthheller.com/event/janet-is-on-a-festival-of-language-panel-at-the-2014-midwest-modern-language-associations-conference/
CATEGORIES:Conference Presentations,Panel Discussion
END:VEVENT
BEGIN:VEVENT
DTSTART;VALUE=DATE:20141024
DTEND;VALUE=DATE:20141026
DTSTAMP:20260423T200835
CREATED:20141021T042532Z
LAST-MODIFIED:20141021T042532Z
UID:188-1414108800-1414281599@www.janetruthheller.com
SUMMARY:Poetry Reading and Autographing on Saturday\, October 25\, 2014 at the Michigan College English Association Conference at Eastern Michigan University
DESCRIPTION:Saturday\, October 25\, 2014—Janet Heller will read “Poems from Exodus and Nature’s Olympics” from 2 p.m. to 3:15 p.m.  She will also autograph her three poetry books and How the Moon Regained Her Shape\, her award-winning children’s book about bullying (Arbordale\, 2006) at the Michigan College English Association Conference.  Heller is the President of the Michigan College English Association.  Place: Eastern Michigan University’s Student Center at 900 Oakwood St.\, Ypsilanti\, MI 48197.
URL:https://www.janetruthheller.com/event/poetry-reading-and-autographing-on-saturday-october-25-2014-at-the-michigan-college-english-association-conference-at-eastern-michigan-university/
LOCATION:Eastern Michigan University Student Center\, 900 Oakwood St.\, Ypsilanti\, MI\, 48197\, United States
END:VEVENT
BEGIN:VEVENT
DTSTART;TZID=America/New_York:20141021T170000
DTEND;TZID=America/New_York:20141021T190000
DTSTAMP:20260423T200835
CREATED:20141001T004702Z
LAST-MODIFIED:20141010T024428Z
UID:183-1413910800-1413918000@www.janetruthheller.com
SUMMARY:Poetry Writing Workshop for Teachers and Teens on Tuesday\, October 21\, 2014\, from 5 p.m. to 7 p.m. at the Portage District Library
DESCRIPTION:Poetry Writing Workshop for Teachers and Teens on Tuesday\, October 21 from 5 p.m. to 7 p.m. at the Portage District Library/ 300 Library Lane/ Portage\, Michigan 49002. Veteran public school and college teachers and published poets Janet Heller\, Andrea England\, and Anna Ill will provide students and teachers with fun exercises to get the poetic juices flowing. Open to teachers\, teens\, and community members. This workshop will help people to prepare for Friends of Poetry’s annual Poems that Ate Our Ears contest for children and teenagers. No experience necessary. Plenty of resources and inspiration to create wonderful poems in your classroom or community. Pizza and beverages provided. Sponsored by Friends of Poetry and the Portage District Library. For more information\, please phone the Portage District Library at (269) 329-4544\, or use the website http://www.portagelibrary.info and click on “events-and-classes\,” and then click “Adult Interest Events.” Free. Registration Required.
URL:https://www.janetruthheller.com/event/poetry-writing-workshop-for-teachers-and-teens-on-tuesday-october-21-2014-from-5-p-m-to-7-p-m-at-the-portage-district-library/
LOCATION:Portage District Library\, 300 Library Lane\, Portage\, MI\, 49002\, United States
CATEGORIES:Workshop
END:VEVENT
BEGIN:VEVENT
DTSTART;TZID=America/New_York:20140928T140000
DTEND;TZID=America/New_York:20140928T153000
DTSTAMP:20260423T200835
CREATED:20140927T040049Z
LAST-MODIFIED:20140927T041032Z
UID:179-1411912800-1411918200@www.janetruthheller.com
SUMMARY:Poetry Reading in Nineteen Languages
DESCRIPTION:Sunday\, September 28\, 2014—Janet Heller will read a poem by Chaim Guri during the Poetry Reading in Nineteen Languages at the Portage District Library from 2 to 3:30 p.m. This event is also sponsored by the Department of World Languages and Literatures of Western Michigan University. There will also be a tasting from several area international restaurants. Languages represented at this reading include Japanese\, Arabic\, Dutch\, French\, German\, Greek\, Hebrew\, Icelandic\, Irish\, Italian\, Latvian\, Macedonian\, Mandarin\, Persian\, Portuguese\, Romanian\, Russian\, Spanish\, and Yoruba. The Portage District Library is located at 300 Library Lane/ Portage\, Michigan 49002.  For more information\, please phone the Portage District Library at (269) 329-4544\, or use the website http://www.pdl.lib.mi.us/events-and-classes and click “Adult Interest Events.” \n 
URL:https://www.janetruthheller.com/event/poetry-reading-in-nineteen-languages/
LOCATION:Portage District Library\, 300 Library Lane\, Portage\, MI\, 49002\, United States
CATEGORIES:Poetry Reading
END:VEVENT
BEGIN:VEVENT
DTSTART;TZID=America/New_York:20140518T133000
DTEND;TZID=America/New_York:20140518T153000
DTSTAMP:20260423T200835
CREATED:20140807T223937Z
LAST-MODIFIED:20140807T224325Z
UID:119-1400419800-1400427000@www.janetruthheller.com
SUMMARY:Brighton District Library Speaking Event for Janet Ruth Heller on May 18\, 2014
DESCRIPTION:Janet Ruth Heller was among the featured authors at a free Local Author Showcase at the Brighton District Library on Sunday\, May 18\, 2014\, from 1:30 to 3:30 p.m. The address is 100 Library Drive in Brighton MI 48116. Heller talked about and read from her new poetry books Exodus (WordTech Editions\, 2014) and Folk Concert: Changing Times (Anaphora Literary Press\, 2012). She also answered questions and autographed all of her books\, including the award-winning book for children about bullying\, How the Moon Regained Her Shape. \n 
URL:https://www.janetruthheller.com/event/brighton-district-library-speaking-event-for-janet-ruth-heller-on-may-18-2014/
CATEGORIES:Book Signing
END:VEVENT
BEGIN:VEVENT
DTSTART;TZID=America/New_York:20110917T093000
DTEND;TZID=America/New_York:20110917T120000
DTSTAMP:20260423T200835
CREATED:20110817T181038Z
LAST-MODIFIED:20140717T182042Z
UID:45-1316251800-1316260800@www.janetruthheller.com
SUMMARY:Fiction Writing Workshop with Dr. Janet Heller
DESCRIPTION:This free fiction writing workshop is designed for budding writers. Participants are encouraged to bring a story that they have written. \nJanet Heller has taught English and Women Studies at Western Michigan University. She is the founding mother of Primavera\, a literary magazine.  Dr. Heller has published the poetry book Traffic Stop (Finishing Line Press\, 2011) and an award-winning children’s book about bullying called How the Moon Regained Her Shape (Arbordale\, 2006). \nLimited to 20 participants.
URL:https://www.janetruthheller.com/event/fiction-writing-workshop-with-dr-janet-heller/
LOCATION:Portage District Library\, 300 Library Lane\, Portage\, MI\, 49002\, United States
CATEGORIES:Workshop
END:VEVENT
BEGIN:VEVENT
DTSTART;TZID=America/New_York:20110813T100000
DTEND;TZID=America/New_York:20110813T100000
DTSTAMP:20260423T200835
CREATED:20110711T181520Z
LAST-MODIFIED:20140717T182002Z
UID:48-1313229600-1313229600@www.janetruthheller.com
SUMMARY:Author Appearance at Reading Rocks in Rockford Festival
DESCRIPTION:Janet Ruth Heller and many other authors will perform and autograph their books at the Reading Rocks in Rockford Festival. Janet will be selling her award-winning book for children about bullying\, How the Moon Regained Her Shape (Arbordale)\, and her brand-new poetry book\, Traffic Stop (Finishing Line Press). \nThere will also be writing workshops.
URL:https://www.janetruthheller.com/event/author-appearance-at-reading-rocks-in-rockford-festival/
LOCATION:Garden Club Park\, Rockford\, MI\, United States
CATEGORIES:Book Signing
END:VEVENT
END:VCALENDAR