BEGIN:VCALENDAR
VERSION:2.0
PRODID:-//Janet Ruth Heller - ECPv6.15.20//NONSGML v1.0//EN
CALSCALE:GREGORIAN
METHOD:PUBLISH
X-WR-CALNAME:Janet Ruth Heller
X-ORIGINAL-URL:https://www.janetruthheller.com
X-WR-CALDESC:Events for Janet Ruth Heller
REFRESH-INTERVAL;VALUE=DURATION:PT1H
X-Robots-Tag:noindex
X-PUBLISHED-TTL:PT1H
BEGIN:VTIMEZONE
TZID:America/New_York
BEGIN:DAYLIGHT
TZOFFSETFROM:-0500
TZOFFSETTO:-0400
TZNAME:EDT
DTSTART:20130310T070000
END:DAYLIGHT
BEGIN:STANDARD
TZOFFSETFROM:-0400
TZOFFSETTO:-0500
TZNAME:EST
DTSTART:20131103T060000
END:STANDARD
BEGIN:DAYLIGHT
TZOFFSETFROM:-0500
TZOFFSETTO:-0400
TZNAME:EDT
DTSTART:20140309T070000
END:DAYLIGHT
BEGIN:STANDARD
TZOFFSETFROM:-0400
TZOFFSETTO:-0500
TZNAME:EST
DTSTART:20141102T060000
END:STANDARD
BEGIN:DAYLIGHT
TZOFFSETFROM:-0500
TZOFFSETTO:-0400
TZNAME:EDT
DTSTART:20150308T070000
END:DAYLIGHT
BEGIN:STANDARD
TZOFFSETFROM:-0400
TZOFFSETTO:-0500
TZNAME:EST
DTSTART:20151101T060000
END:STANDARD
END:VTIMEZONE
BEGIN:VEVENT
DTSTART;TZID=America/New_York:20141205T170000
DTEND;TZID=America/New_York:20141205T190000
DTSTAMP:20260423T215412
CREATED:20141110T034759Z
LAST-MODIFIED:20141206T235932Z
UID:198-1417798800-1417806000@www.janetruthheller.com
SUMMARY:Janet Heller Reads from her poetry books Exodus and Folk Concert: Changing Times at the Kalamazoo Public Library on December 5\, 2014
DESCRIPTION:Friday\, December 5\, 2014–6 p.m. to 8 p.m.—Janet Heller will read from her poetry books Exodus and Folk Concert: Changing Times at the Kalamazoo Public Library as part of a Friends of Poetry event. She will also autograph all of her books.  Location: 315 S Rose St.\, Kalamazoo MI 49007.  This reading is part of Art Hop events in downtown Kalamazoo.
URL:https://www.janetruthheller.com/event/janet-heller-reads-from-her-poetry-books-exodus-and-folk-concert-changing-times-at-the-kalamazoo-public-library-on-december-5-2014/
LOCATION:Kalamazoo Public Library\, 315 S Rose St. \, Kalamazoo\, MI\, 49007\, United States
CATEGORIES:Book Signing,Poetry Reading
END:VEVENT
BEGIN:VEVENT
DTSTART;TZID=America/New_York:20141113T141500
DTEND;TZID=America/New_York:20141114T153000
DTSTAMP:20260423T215412
CREATED:20141110T033221Z
LAST-MODIFIED:20141110T040630Z
UID:195-1415888100-1415979000@www.janetruthheller.com
SUMMARY:Janet Heller Speaks at the Convention of the Midwest Modern Language Association in Dearborn MI on November 13-14\, 2014
DESCRIPTION:Thursday November 13 and Friday November 14\, 2014—Janet Heller will be speaking at the convention of the Midwest Modern Language Association at the Double Tree by Hilton Hotel Detroit-Dearborn. The conference theme is “The Lives of Cities.”  Janet will read her autobiographical essay “Growing Up on the Other Side of Lake Michigan\,” which combines poetry and prose\, on November 13 from 2:15 to 3:45 p.m.  She will also discuss “Capturing Adolescence in Detroit:  The Poems of Jim Daniels” from 2 to 3:30 p.m. on Friday\, November 14.
URL:https://www.janetruthheller.com/event/janet-heller-speaks-at-the-convention-of-the-midwest-modern-language-association-in-dearborn-mi-on-november-13-14-2014/
LOCATION:Double Tree by Hilton Hotel Detroit-Dearborn\, 5801 Southfield Expressway\, Detroit \, MI\, 48228\, United States
CATEGORIES:Conference Presentations,Creative Nonfiction Reading,Memoir Reading,Panel Discussion,Poetry Reading
END:VEVENT
BEGIN:VEVENT
DTSTART;TZID=America/New_York:20140928T140000
DTEND;TZID=America/New_York:20140928T153000
DTSTAMP:20260423T215412
CREATED:20140927T040049Z
LAST-MODIFIED:20140927T041032Z
UID:179-1411912800-1411918200@www.janetruthheller.com
SUMMARY:Poetry Reading in Nineteen Languages
DESCRIPTION:Sunday\, September 28\, 2014—Janet Heller will read a poem by Chaim Guri during the Poetry Reading in Nineteen Languages at the Portage District Library from 2 to 3:30 p.m. This event is also sponsored by the Department of World Languages and Literatures of Western Michigan University. There will also be a tasting from several area international restaurants. Languages represented at this reading include Japanese\, Arabic\, Dutch\, French\, German\, Greek\, Hebrew\, Icelandic\, Irish\, Italian\, Latvian\, Macedonian\, Mandarin\, Persian\, Portuguese\, Romanian\, Russian\, Spanish\, and Yoruba. The Portage District Library is located at 300 Library Lane/ Portage\, Michigan 49002.  For more information\, please phone the Portage District Library at (269) 329-4544\, or use the website http://www.pdl.lib.mi.us/events-and-classes and click “Adult Interest Events.” \n 
URL:https://www.janetruthheller.com/event/poetry-reading-in-nineteen-languages/
LOCATION:Portage District Library\, 300 Library Lane\, Portage\, MI\, 49002\, United States
CATEGORIES:Poetry Reading
END:VEVENT
END:VCALENDAR